BEGIN:VCALENDAR
VERSION:2.0
PRODID:-//WarpThpeed - ECPv6.15.15//NONSGML v1.0//EN
CALSCALE:GREGORIAN
METHOD:PUBLISH
X-WR-CALNAME:WarpThpeed
X-ORIGINAL-URL:https://warpthpeed.com
X-WR-CALDESC:Events for WarpThpeed
REFRESH-INTERVAL;VALUE=DURATION:PT1H
X-Robots-Tag:noindex
X-PUBLISHED-TTL:PT1H
BEGIN:VTIMEZONE
TZID:America/Denver
BEGIN:DAYLIGHT
TZOFFSETFROM:-0700
TZOFFSETTO:-0600
TZNAME:MDT
DTSTART:20210314T090000
END:DAYLIGHT
BEGIN:STANDARD
TZOFFSETFROM:-0600
TZOFFSETTO:-0700
TZNAME:MST
DTSTART:20211107T080000
END:STANDARD
BEGIN:DAYLIGHT
TZOFFSETFROM:-0700
TZOFFSETTO:-0600
TZNAME:MDT
DTSTART:20220313T090000
END:DAYLIGHT
BEGIN:STANDARD
TZOFFSETFROM:-0600
TZOFFSETTO:-0700
TZNAME:MST
DTSTART:20221106T080000
END:STANDARD
BEGIN:DAYLIGHT
TZOFFSETFROM:-0700
TZOFFSETTO:-0600
TZNAME:MDT
DTSTART:20230312T090000
END:DAYLIGHT
BEGIN:STANDARD
TZOFFSETFROM:-0600
TZOFFSETTO:-0700
TZNAME:MST
DTSTART:20231105T080000
END:STANDARD
END:VTIMEZONE
BEGIN:VEVENT
DTSTART;TZID=America/Denver:20220805T203000
DTEND;TZID=America/Denver:20220805T235900
DTSTAMP:20260421T093609
CREATED:20220802T021139Z
LAST-MODIFIED:20220802T021139Z
UID:382-1659731400-1659743940@warpthpeed.com
SUMMARY:Fight Night (JumpTown Meyhem)
DESCRIPTION:Where: Grim Hex\, Yela Orbit\, Crusader Space\, Stanton System \n\n\n\nWhen: Friday August 5th @ 8:30pm Mountain Time. (02:30 UTC) \n\n\n\nSpecial:We are going back to JumpTown! Gear up\, get your ships upgraded and ready for a siege. We are taking JumpTown and we’ll hold it as long as possible. Meet at GrimHex and don’t forget to set your spawn point. It’s gonna get crazy. \n\n\n\nPlease RSVP using the appropriate emoji on discord. \n\n\n\nComs will be provided with the MEC server.Invite link: https://discord.gg/cmG6adc
URL:https://warpthpeed.com/event/fight-night-jumptown-meyhem/
LOCATION:Star Citizen
CATEGORIES:Fight Night
ATTACH;FMTTYPE=image/jpeg:https://warpthpeed.com/wp-content/uploads/2022/03/ScreenShot-2021-11-22_14-41-30-C70.jpg
END:VEVENT
END:VCALENDAR