BEGIN:VCALENDAR
VERSION:2.0
PRODID:-//WarpThpeed - ECPv6.15.15//NONSGML v1.0//EN
CALSCALE:GREGORIAN
METHOD:PUBLISH
X-ORIGINAL-URL:https://warpthpeed.com
X-WR-CALDESC:Events for WarpThpeed
REFRESH-INTERVAL;VALUE=DURATION:PT1H
X-Robots-Tag:noindex
X-PUBLISHED-TTL:PT1H
BEGIN:VTIMEZONE
TZID:America/Denver
BEGIN:DAYLIGHT
TZOFFSETFROM:-0700
TZOFFSETTO:-0600
TZNAME:MDT
DTSTART:20220313T090000
END:DAYLIGHT
BEGIN:STANDARD
TZOFFSETFROM:-0600
TZOFFSETTO:-0700
TZNAME:MST
DTSTART:20221106T080000
END:STANDARD
BEGIN:DAYLIGHT
TZOFFSETFROM:-0700
TZOFFSETTO:-0600
TZNAME:MDT
DTSTART:20230312T090000
END:DAYLIGHT
BEGIN:STANDARD
TZOFFSETFROM:-0600
TZOFFSETTO:-0700
TZNAME:MST
DTSTART:20231105T080000
END:STANDARD
BEGIN:DAYLIGHT
TZOFFSETFROM:-0700
TZOFFSETTO:-0600
TZNAME:MDT
DTSTART:20240310T090000
END:DAYLIGHT
BEGIN:STANDARD
TZOFFSETFROM:-0600
TZOFFSETTO:-0700
TZNAME:MST
DTSTART:20241103T080000
END:STANDARD
END:VTIMEZONE
BEGIN:VEVENT
DTSTART;TZID=America/Denver:20230616T203000
DTEND;TZID=America/Denver:20230616T235900
DTSTAMP:20260422T044557
CREATED:20230608T011827Z
LAST-MODIFIED:20230608T011851Z
UID:551-1686947400-1686959940@warpthpeed.com
SUMMARY:Fight Night (Salvage Fleet)
DESCRIPTION:SC-EVENT #010 \n\n\n\nWhere: Everus Harbor\, Low Hurston Orbit\, Stanton System \n\n\n\nWhen: Friday June 16th @ 8:30pm Mountain Time. (02:30 UTC) \n\n\n\nSpecial:With Salvage gameplay now released\, and everyone has gotten their feet wet\, some jumped into the deep end. We are going to gather a salvage fleet and scrape as many hulls and exploit salvage missions as possible. Bring your vulture\, bring your Reclaimer\, bring your cargo ship\, hell bring your guns! And lets make some money! \n\n\n\nLet’s all get geared up like we all hangout in the same circles.Event Gear: Anything with a red undersuit and blue/twilight coloring.Official Event Gear: Orc mkX Twilight (Full Gear) Red Beacon Undersuit \n\n\n\nShareable Link: https://warpthpeed.com/event/fight-night-salvage-fleet-2/Event Stream: https://www.twitch.tv/millshiveDual Stream: https://multistre.am/millshive/redmonstersc/layout4/ \n\n\n\nPlease RSVP using the event board on discord. \n\n\n\nComs will be provided with the MEC server.Invite link: https://discord.gg/cmG6adc
URL:https://warpthpeed.com/event/fight-night-salvage-fleet-2/
LOCATION:Star Citizen
CATEGORIES:Fight Night
ATTACH;FMTTYPE=image/png:https://warpthpeed.com/wp-content/uploads/2023/04/Salvage-Fleet.png
END:VEVENT
END:VCALENDAR