BEGIN:VCALENDAR
VERSION:2.0
PRODID:-//WarpThpeed - ECPv6.15.15//NONSGML v1.0//EN
CALSCALE:GREGORIAN
METHOD:PUBLISH
X-WR-CALNAME:WarpThpeed
X-ORIGINAL-URL:https://warpthpeed.com
X-WR-CALDESC:Events for WarpThpeed
REFRESH-INTERVAL;VALUE=DURATION:PT1H
X-Robots-Tag:noindex
X-PUBLISHED-TTL:PT1H
BEGIN:VTIMEZONE
TZID:America/Denver
BEGIN:DAYLIGHT
TZOFFSETFROM:-0700
TZOFFSETTO:-0600
TZNAME:MDT
DTSTART:20220313T090000
END:DAYLIGHT
BEGIN:STANDARD
TZOFFSETFROM:-0600
TZOFFSETTO:-0700
TZNAME:MST
DTSTART:20221106T080000
END:STANDARD
BEGIN:DAYLIGHT
TZOFFSETFROM:-0700
TZOFFSETTO:-0600
TZNAME:MDT
DTSTART:20230312T090000
END:DAYLIGHT
BEGIN:STANDARD
TZOFFSETFROM:-0600
TZOFFSETTO:-0700
TZNAME:MST
DTSTART:20231105T080000
END:STANDARD
BEGIN:DAYLIGHT
TZOFFSETFROM:-0700
TZOFFSETTO:-0600
TZNAME:MDT
DTSTART:20240310T090000
END:DAYLIGHT
BEGIN:STANDARD
TZOFFSETFROM:-0600
TZOFFSETTO:-0700
TZNAME:MST
DTSTART:20241103T080000
END:STANDARD
END:VTIMEZONE
BEGIN:VEVENT
DTSTART;TZID=America/Denver:20231013T203000
DTEND;TZID=America/Denver:20231013T235900
DTSTAMP:20260422T113030
CREATED:20231006T171257Z
LAST-MODIFIED:20231006T171337Z
UID:577-1697229000-1697241540@warpthpeed.com
SUMMARY:Fight Night (First Responders)
DESCRIPTION:SC-EVENT #015 \n\n\n\nWhere: Seraphim Station\, Low Crusader Orbit\, Stanton System \n\n\n\nWhen: Friday October 13th @ 8:30pm Mountain Time. (02:30 UTC) \n\n\n\nSpecial:We are Stanton’s first responders. We’ll hit every service beacon (NPC and Player alike) that pops up. Expect combat of every type. We’ll need a Multi Crew ship\, and screening fighters. I’ll have a Medical Pisces on standby for when ever a medical service becon pops up. \n\n\n\nEvent Gear (official): Beacon Red Undersuit\, Orc mk-X Twilight Armor (full) [Can wear a subscriber helmet instead if you wish.Event Gear (unofficial): Red understuit\, and any blue armor. \n\n\n\nShareable Link: https://warpthpeed.com/event/fight-night-first-responders/Event Stream: https://www.twitch.tv/millshive \n\n\n\nPlease RSVP using the event board on discord. \n\n\n\nComs will be provided with the MEC server.Invite link: https://discord.gg/cmG6adc
URL:https://warpthpeed.com/event/fight-night-first-responders/
LOCATION:Star Citizen
CATEGORIES:Fight Night
ATTACH;FMTTYPE=image/jpeg:https://warpthpeed.com/wp-content/uploads/2022/11/Mill-2.jpg
END:VEVENT
END:VCALENDAR