BEGIN:VCALENDAR
VERSION:2.0
PRODID:-//WarpThpeed - ECPv6.15.15//NONSGML v1.0//EN
CALSCALE:GREGORIAN
METHOD:PUBLISH
X-ORIGINAL-URL:https://warpthpeed.com
X-WR-CALDESC:Events for WarpThpeed
REFRESH-INTERVAL;VALUE=DURATION:PT1H
X-Robots-Tag:noindex
X-PUBLISHED-TTL:PT1H
BEGIN:VTIMEZONE
TZID:America/Denver
BEGIN:DAYLIGHT
TZOFFSETFROM:-0700
TZOFFSETTO:-0600
TZNAME:MDT
DTSTART:20220313T090000
END:DAYLIGHT
BEGIN:STANDARD
TZOFFSETFROM:-0600
TZOFFSETTO:-0700
TZNAME:MST
DTSTART:20221106T080000
END:STANDARD
BEGIN:DAYLIGHT
TZOFFSETFROM:-0700
TZOFFSETTO:-0600
TZNAME:MDT
DTSTART:20230312T090000
END:DAYLIGHT
BEGIN:STANDARD
TZOFFSETFROM:-0600
TZOFFSETTO:-0700
TZNAME:MST
DTSTART:20231105T080000
END:STANDARD
BEGIN:DAYLIGHT
TZOFFSETFROM:-0700
TZOFFSETTO:-0600
TZNAME:MDT
DTSTART:20240310T090000
END:DAYLIGHT
BEGIN:STANDARD
TZOFFSETFROM:-0600
TZOFFSETTO:-0700
TZNAME:MST
DTSTART:20241103T080000
END:STANDARD
END:VTIMEZONE
BEGIN:VEVENT
DTSTART;TZID=America/Denver:20231027T203000
DTEND;TZID=America/Denver:20231027T235900
DTSTAMP:20260416T204007
CREATED:20231025T225541Z
LAST-MODIFIED:20231025T235428Z
UID:581-1698438600-1698451140@warpthpeed.com
SUMMARY:Fight Night (Salvage Fleet)
DESCRIPTION:SC-EVENT #016 \n\n\n\nWhere: Seraphim Station\, Low Crusader Orbit\, Stanton System \n\n\n\nWhen: Friday October 27th @ 8:30pm Mountain Time. (02:30 UTC) \n\n\n\nSpecial:We will be scraping hulls\, and gathering “Salvage” at the various wrecks around Stanton. Gear up with your trusty tractor beam\, and Vulture if you have one. If we get enough people\, and we have one available\, we’ll fully crew a reclaimer instead. This is going to be pretty lucrative\, so if you are short on credits\, you’ll want to be here\, as everyone will get the cut that they earn. See you in the vers! \n\n\n\nEvent Gear (official): Beacon Red Undersuit\, Orc mk-X Twilight Armor (full) [Can wear a subscriber helmet instead if you wish.Event Gear (unofficial): Red understuit\, and any blue armor. \n\n\n\nShareable Link: https://warpthpeed.com/event/fight-night-salvage-fleet-3/Event Stream: https://www.twitch.tv/millshive \n\n\n\nPlease RSVP using the event board on discord. \n\n\n\nComs will be provided with the MEC server.Invite link: https://discord.gg/cmG6adc
URL:https://warpthpeed.com/event/fight-night-salvage-fleet-3/
LOCATION:Star Citizen
CATEGORIES:Fight Night
ATTACH;FMTTYPE=image/png:https://warpthpeed.com/wp-content/uploads/2023/04/Salvage-Fleet.png
END:VEVENT
END:VCALENDAR