BEGIN:VCALENDAR
VERSION:2.0
PRODID:-//WarpThpeed - ECPv6.15.15//NONSGML v1.0//EN
CALSCALE:GREGORIAN
METHOD:PUBLISH
X-ORIGINAL-URL:https://warpthpeed.com
X-WR-CALDESC:Events for WarpThpeed
REFRESH-INTERVAL;VALUE=DURATION:PT1H
X-Robots-Tag:noindex
X-PUBLISHED-TTL:PT1H
BEGIN:VTIMEZONE
TZID:America/Denver
BEGIN:DAYLIGHT
TZOFFSETFROM:-0700
TZOFFSETTO:-0600
TZNAME:MDT
DTSTART:20220313T090000
END:DAYLIGHT
BEGIN:STANDARD
TZOFFSETFROM:-0600
TZOFFSETTO:-0700
TZNAME:MST
DTSTART:20221106T080000
END:STANDARD
BEGIN:DAYLIGHT
TZOFFSETFROM:-0700
TZOFFSETTO:-0600
TZNAME:MDT
DTSTART:20230312T090000
END:DAYLIGHT
BEGIN:STANDARD
TZOFFSETFROM:-0600
TZOFFSETTO:-0700
TZNAME:MST
DTSTART:20231105T080000
END:STANDARD
BEGIN:DAYLIGHT
TZOFFSETFROM:-0700
TZOFFSETTO:-0600
TZNAME:MDT
DTSTART:20240310T090000
END:DAYLIGHT
BEGIN:STANDARD
TZOFFSETFROM:-0600
TZOFFSETTO:-0700
TZNAME:MST
DTSTART:20241103T080000
END:STANDARD
END:VTIMEZONE
BEGIN:VEVENT
DTSTART;TZID=America/Denver:20231201T203000
DTEND;TZID=America/Denver:20231201T235900
DTSTAMP:20260422T130124
CREATED:20231128T194047Z
LAST-MODIFIED:20231128T194108Z
UID:595-1701462600-1701475140@warpthpeed.com
SUMMARY:Fight Night (Siege of Orison)
DESCRIPTION:SC-EVENT #019 \n\n\n\nWhere: Orison\, Crusader\, Stanton System \n\n\n\nWhen: Friday December 1st @ 8:30pm Mountain Time. (02:30 UTC) \n\n\n\nHost: Mootkins \n\n\n\nSpecial:Siege of Orison is going to kick off this Friday. And we’ll be in the thick of it. Gear up for some crazy FPS shenanigans as we take on the multi platform terror that the 9 tails faction believe they are. \n\n\n\nEvent Gear (official): Beacon Red Undersuit\, Orc mk-X Twilight Armor (full) [Can wear a subscriber helmet instead if you wish.Event Gear (unofficial): Red understuit\, and any blue armor. \n\n\n\nShareable Link: https://warpthpeed.com/event/fight-night-siege-of-orison/Event Stream: \n\n\n\nPlease RSVP using the event board on discord. \n\n\n\nComs will be provided with the MEC server.Invite link: https://discord.gg/cmG6adc
URL:https://warpthpeed.com/event/fight-night-siege-of-orison/
LOCATION:Star Citizen
CATEGORIES:Fight Night
ATTACH;FMTTYPE=image/jpeg:https://warpthpeed.com/wp-content/uploads/2023/11/Orison-Cloud-view-Center.jpg
END:VEVENT
END:VCALENDAR