BEGIN:VCALENDAR
VERSION:2.0
PRODID:-//WarpThpeed - ECPv6.15.15//NONSGML v1.0//EN
CALSCALE:GREGORIAN
METHOD:PUBLISH
X-WR-CALNAME:WarpThpeed
X-ORIGINAL-URL:https://warpthpeed.com
X-WR-CALDESC:Events for WarpThpeed
REFRESH-INTERVAL;VALUE=DURATION:PT1H
X-Robots-Tag:noindex
X-PUBLISHED-TTL:PT1H
BEGIN:VTIMEZONE
TZID:America/Denver
BEGIN:DAYLIGHT
TZOFFSETFROM:-0700
TZOFFSETTO:-0600
TZNAME:MDT
DTSTART:20210314T090000
END:DAYLIGHT
BEGIN:STANDARD
TZOFFSETFROM:-0600
TZOFFSETTO:-0700
TZNAME:MST
DTSTART:20211107T080000
END:STANDARD
BEGIN:DAYLIGHT
TZOFFSETFROM:-0700
TZOFFSETTO:-0600
TZNAME:MDT
DTSTART:20220313T090000
END:DAYLIGHT
BEGIN:STANDARD
TZOFFSETFROM:-0600
TZOFFSETTO:-0700
TZNAME:MST
DTSTART:20221106T080000
END:STANDARD
BEGIN:DAYLIGHT
TZOFFSETFROM:-0700
TZOFFSETTO:-0600
TZNAME:MDT
DTSTART:20230312T090000
END:DAYLIGHT
BEGIN:STANDARD
TZOFFSETFROM:-0600
TZOFFSETTO:-0700
TZNAME:MST
DTSTART:20231105T080000
END:STANDARD
END:VTIMEZONE
BEGIN:VEVENT
DTSTART;TZID=America/Denver:20220408T203000
DTEND;TZID=America/Denver:20220408T235900
DTSTAMP:20260421T125701
CREATED:20220328T191902Z
LAST-MODIFIED:20220328T191903Z
UID:360-1649449800-1649462340@warpthpeed.com
SUMMARY:Fight Night! (Convoy)
DESCRIPTION:SC-EVENT #004 \n\n\n\nWhere: Everus Harbor\, Low Hurston Orbit\, Stanton System \n\n\n\nWhen: Friday April 8th @ 8:30pm Mountain Time. (02:30 UTC) \n\n\n\nSpecial:As a team we will be charged with 2 outlaws to transport from one location to another without loosing the outlaw. You will be limited to ground vehicles and FPS weapons only to transport and protect your charge. All available weapon systems that fit these categories are open to you. Good luck and God Speed. \n\n\n\nEvent Armor for easy recognition: Red Understuit with Blue armor.Official: Full Orc mkX Twilight armor. Red/Black Beacon \n\n\n\nSee you in the Vers! \n\n\n\nPlease RSVP using the appropriate emoji on discord. \n\n\n\nComs will be provided with the MEC server. Invite link: https://discord.gg/cmG6adc
URL:https://warpthpeed.com/event/fight-night-convoy/
CATEGORIES:Fight Night
ATTACH;FMTTYPE=image/jpeg:https://warpthpeed.com/wp-content/uploads/2022/03/ScreenShot-2021-11-22_14-41-30-C70.jpg
END:VEVENT
END:VCALENDAR