BEGIN:VCALENDAR
VERSION:2.0
PRODID:-//WarpThpeed - ECPv6.15.15//NONSGML v1.0//EN
CALSCALE:GREGORIAN
METHOD:PUBLISH
X-WR-CALNAME:WarpThpeed
X-ORIGINAL-URL:https://warpthpeed.com
X-WR-CALDESC:Events for WarpThpeed
REFRESH-INTERVAL;VALUE=DURATION:PT1H
X-Robots-Tag:noindex
X-PUBLISHED-TTL:PT1H
BEGIN:VTIMEZONE
TZID:America/Denver
BEGIN:DAYLIGHT
TZOFFSETFROM:-0700
TZOFFSETTO:-0600
TZNAME:MDT
DTSTART:20210314T090000
END:DAYLIGHT
BEGIN:STANDARD
TZOFFSETFROM:-0600
TZOFFSETTO:-0700
TZNAME:MST
DTSTART:20211107T080000
END:STANDARD
BEGIN:DAYLIGHT
TZOFFSETFROM:-0700
TZOFFSETTO:-0600
TZNAME:MDT
DTSTART:20220313T090000
END:DAYLIGHT
BEGIN:STANDARD
TZOFFSETFROM:-0600
TZOFFSETTO:-0700
TZNAME:MST
DTSTART:20221106T080000
END:STANDARD
BEGIN:DAYLIGHT
TZOFFSETFROM:-0700
TZOFFSETTO:-0600
TZNAME:MDT
DTSTART:20230312T090000
END:DAYLIGHT
BEGIN:STANDARD
TZOFFSETFROM:-0600
TZOFFSETTO:-0700
TZNAME:MST
DTSTART:20231105T080000
END:STANDARD
END:VTIMEZONE
BEGIN:VEVENT
DTSTART;TZID=America/Denver:20220513T203000
DTEND;TZID=America/Denver:20220513T235900
DTSTAMP:20260421T112920
CREATED:20220415T152102Z
LAST-MODIFIED:20220415T152103Z
UID:371-1652473800-1652486340@warpthpeed.com
SUMMARY:Fight Night (Boxing)
DESCRIPTION:SC-EVENT #006 \n\n\n\nWhere: Baijini Point\, Low ArcCotp Orbit\, Stanton System \n\n\n\nWhen: Friday May 13th @ 8:30pm Mountain Time. (02:30 UTC) \n\n\n\nSpecial:     Time for some boxing! We’ll be taking a carrack (890J if one is available) out to the middle of space\, where we will duke it out for bragging rights! These fights will be zero armor\, zero weapon fights. Time to register those fists of yours! \n\n\n\nRespawning:The fight will take place on a respawn capable ship. \n\n\n\nSee you in the Vers! \n\n\n\nPlease RSVP using the appropriate emoji on discord. \n\n\n\nComs will be provided with the MEC server. Invite link: https://discord.gg/cmG6adc
URL:https://warpthpeed.com/event/fight-night-boxing/
LOCATION:Star Citizen
CATEGORIES:Fight Night
ATTACH;FMTTYPE=image/jpeg:https://warpthpeed.com/wp-content/uploads/2022/04/ScreenShot-2022-03-25_21-25-27-566.jpg
END:VEVENT
END:VCALENDAR