BEGIN:VCALENDAR
VERSION:2.0
PRODID:-//WarpThpeed - ECPv6.15.15//NONSGML v1.0//EN
CALSCALE:GREGORIAN
METHOD:PUBLISH
X-ORIGINAL-URL:https://warpthpeed.com
X-WR-CALDESC:Events for WarpThpeed
REFRESH-INTERVAL;VALUE=DURATION:PT1H
X-Robots-Tag:noindex
X-PUBLISHED-TTL:PT1H
BEGIN:VTIMEZONE
TZID:America/Denver
BEGIN:DAYLIGHT
TZOFFSETFROM:-0700
TZOFFSETTO:-0600
TZNAME:MDT
DTSTART:20210314T090000
END:DAYLIGHT
BEGIN:STANDARD
TZOFFSETFROM:-0600
TZOFFSETTO:-0700
TZNAME:MST
DTSTART:20211107T080000
END:STANDARD
BEGIN:DAYLIGHT
TZOFFSETFROM:-0700
TZOFFSETTO:-0600
TZNAME:MDT
DTSTART:20220313T090000
END:DAYLIGHT
BEGIN:STANDARD
TZOFFSETFROM:-0600
TZOFFSETTO:-0700
TZNAME:MST
DTSTART:20221106T080000
END:STANDARD
BEGIN:DAYLIGHT
TZOFFSETFROM:-0700
TZOFFSETTO:-0600
TZNAME:MDT
DTSTART:20230312T090000
END:DAYLIGHT
BEGIN:STANDARD
TZOFFSETFROM:-0600
TZOFFSETTO:-0700
TZNAME:MST
DTSTART:20231105T080000
END:STANDARD
END:VTIMEZONE
BEGIN:VEVENT
DTSTART;TZID=America/Denver:20220520T203000
DTEND;TZID=America/Denver:20220520T235900
DTSTAMP:20260421T113206
CREATED:20220415T152443Z
LAST-MODIFIED:20220415T152443Z
UID:374-1653078600-1653091140@warpthpeed.com
SUMMARY:Fight Night (Capture the Flag)
DESCRIPTION:SC-EVENT #007 \n\n\n\nWhere: Bejini Point\, Low ArcCorp Orbit\, Stanton System \n\n\n\nWhen: Friday May 20th @ 8:30pm Mountain Time. (02:30 UTC) \n\n\n\nIt’s time we go to an ArcCorp moon\, for a fun game of Capture the Flag 🙂 Play area will be “Snowy Peaks.” And further location details will be provided at the event. \n\n\n\nThe game is simple\, capture the enemy’s flag and return it to your base for a point. Games will start out at 3 points to win. If it’s too quick\, we’ll up it 🙂 Yay for play tests! \n\n\n\nRULES:Each team will be allowed 1 respawn ship to act as their base/spawn point.No combat on base ships.Base ships cannot be destroyed\, or offending team is disqualified.No camping the spawn point.Team flags will not be allowed on base ships. They must be out in the open away from base ship.No air support.Full range of FPS weaponry and armor open.Ground Vehicles found in the play area are available for use by any team. \n\n\n\nThis event is in need of 2 support volunteers (Vehicle runners) \n\n\n\nI’d offer actual prizes\, but I’m poor both in game and IRL\, hopefully in the future that will change. \n\n\n\nSee you in the Vers! \n\n\n\nTeam Event Gear: \n\n\n\nRED TEAM: Any RED suit of armor \n\n\n\nBLUE TEAM: Any BLUE suit of armor \n\n\n\nPlease RSVP using the appropriate emoji. \n\n\n\nComs will be provided with the MEC server. Invite link: https://discord.gg/cmG6adc
URL:https://warpthpeed.com/event/fight-night-capture-the-flag-2/
LOCATION:Star Citizen
CATEGORIES:Fight Night
ATTACH;FMTTYPE=image/jpeg:https://warpthpeed.com/wp-content/uploads/2022/03/ScreenShot-2022-03-07_13-57-24-925.jpg
END:VEVENT
END:VCALENDAR