BEGIN:VCALENDAR
VERSION:2.0
PRODID:-//WarpThpeed - ECPv6.15.15//NONSGML v1.0//EN
CALSCALE:GREGORIAN
METHOD:PUBLISH
X-ORIGINAL-URL:https://warpthpeed.com
X-WR-CALDESC:Events for WarpThpeed
REFRESH-INTERVAL;VALUE=DURATION:PT1H
X-Robots-Tag:noindex
X-PUBLISHED-TTL:PT1H
BEGIN:VTIMEZONE
TZID:America/Denver
BEGIN:DAYLIGHT
TZOFFSETFROM:-0700
TZOFFSETTO:-0600
TZNAME:MDT
DTSTART:20230312T090000
END:DAYLIGHT
BEGIN:STANDARD
TZOFFSETFROM:-0600
TZOFFSETTO:-0700
TZNAME:MST
DTSTART:20231105T080000
END:STANDARD
BEGIN:DAYLIGHT
TZOFFSETFROM:-0700
TZOFFSETTO:-0600
TZNAME:MDT
DTSTART:20240310T090000
END:DAYLIGHT
BEGIN:STANDARD
TZOFFSETFROM:-0600
TZOFFSETTO:-0700
TZNAME:MST
DTSTART:20241103T080000
END:STANDARD
BEGIN:DAYLIGHT
TZOFFSETFROM:-0700
TZOFFSETTO:-0600
TZNAME:MDT
DTSTART:20250309T090000
END:DAYLIGHT
BEGIN:STANDARD
TZOFFSETFROM:-0600
TZOFFSETTO:-0700
TZNAME:MST
DTSTART:20251102T080000
END:STANDARD
END:VTIMEZONE
BEGIN:VEVENT
DTSTART;TZID=America/Denver:20240216T203000
DTEND;TZID=America/Denver:20240216T235900
DTSTAMP:20260421T125456
CREATED:20240205T193053Z
LAST-MODIFIED:20240205T193106Z
UID:608-1708115400-1708127940@warpthpeed.com
SUMMARY:Fight Night (Salvage Op)
DESCRIPTION:SC-EVENT #003 \n\n\n\nWhere: Seraphim Station\, Low Crusader Orbit\, Stanton System \n\n\n\nWhen: Friday February 16th @ 8:30pm Mountain Time. (02:30 UTC) \n\n\n\nHost: Mill Shive \n\n\n\nSpecial:It’s the start of 2024\, and there is no better way then to start the new year off with a salvage op to get the team work juices flowing. Join us as we gather a fleet of salvagers and clean up the miss-deeds of stanton’s most active fighters. \n\n\n\nEvent Gear (official): Beacon Red Undersuit\, Orc mk-X Twilight Armor (full) [Can wear a subscriber helmet instead if you wish.Event Gear (unofficial): Red understuit\, and any blue armor. \n\n\n\nShareable Link: https://warpthpeed.com/event/fight-night-salvage-op/Event Stream: https://www.twitch.tv/millshive \n\n\n\nPlease RSVP using the event board on discord. \n\n\n\nComs will be provided with the MEC server.Invite link: https://discord.gg/cmG6adc
URL:https://warpthpeed.com/event/fight-night-salvage-op/
LOCATION:Star Citizen
CATEGORIES:Fight Night
ATTACH;FMTTYPE=image/png:https://warpthpeed.com/wp-content/uploads/2023/04/Salvage-Fleet.png
END:VEVENT
END:VCALENDAR