BEGIN:VCALENDAR
VERSION:2.0
PRODID:-//WarpThpeed - ECPv6.15.15//NONSGML v1.0//EN
CALSCALE:GREGORIAN
METHOD:PUBLISH
X-WR-CALNAME:WarpThpeed
X-ORIGINAL-URL:https://warpthpeed.com
X-WR-CALDESC:Events for WarpThpeed
REFRESH-INTERVAL;VALUE=DURATION:PT1H
X-Robots-Tag:noindex
X-PUBLISHED-TTL:PT1H
BEGIN:VTIMEZONE
TZID:America/Denver
BEGIN:DAYLIGHT
TZOFFSETFROM:-0700
TZOFFSETTO:-0600
TZNAME:MDT
DTSTART:20200308T090000
END:DAYLIGHT
BEGIN:STANDARD
TZOFFSETFROM:-0600
TZOFFSETTO:-0700
TZNAME:MST
DTSTART:20201101T080000
END:STANDARD
BEGIN:DAYLIGHT
TZOFFSETFROM:-0700
TZOFFSETTO:-0600
TZNAME:MDT
DTSTART:20210314T090000
END:DAYLIGHT
BEGIN:STANDARD
TZOFFSETFROM:-0600
TZOFFSETTO:-0700
TZNAME:MST
DTSTART:20211107T080000
END:STANDARD
BEGIN:DAYLIGHT
TZOFFSETFROM:-0700
TZOFFSETTO:-0600
TZNAME:MDT
DTSTART:20220313T090000
END:DAYLIGHT
BEGIN:STANDARD
TZOFFSETFROM:-0600
TZOFFSETTO:-0700
TZNAME:MST
DTSTART:20221106T080000
END:STANDARD
BEGIN:DAYLIGHT
TZOFFSETFROM:-0700
TZOFFSETTO:-0600
TZNAME:MDT
DTSTART:20230312T090000
END:DAYLIGHT
BEGIN:STANDARD
TZOFFSETFROM:-0600
TZOFFSETTO:-0700
TZNAME:MST
DTSTART:20231105T080000
END:STANDARD
END:VTIMEZONE
BEGIN:VEVENT
DTSTART;TZID=America/Denver:20220325T200000
DTEND;TZID=America/Denver:20220325T235900
DTSTAMP:20260419T214100
CREATED:20220307T220244Z
LAST-MODIFIED:20220325T153711Z
UID:352-1648238400-1648252740@warpthpeed.com
SUMMARY:Fight Night! (Capture The Flag)
DESCRIPTION:SC-EVENT #003 \n\n\n\nWhere: Bejini Point\, Low ArcCorp Orbit\, Stanton System \n\n\n\nWhen: Friday March 25th @ 8pm Mountain Time. (02:00 UTC) \n\n\n\nYes another Red vs Blue event (Yes I know the reference) This time we go to an ArcCorp moon\, for a fun game of Capture the Flag 🙂 Play area will be “Snowy Peaks.” And further location details will be provided at the event. \n\n\n\nThe game is simple\, capture the enemy’s flag and return it to your base for a point. Games will start out at 3 points to win. If it’s too quick\, we’ll up it 🙂 Yay for play tests! \n\n\n\nRULES:Each team will be allowed 1 respawn ship to act as their base/spawn point.No combat on base ships.Base ships cannot be destroyed\, or offending team is disqualified.No camping the spawn point.Team flags will not be allowed on base ships. They must be out in the open away from base ship.No air support.Full range of FPS weaponry and armor open.Ground Vehicles found in the play area are available for use by any team. \n\n\n\nThis event is in need of 2 support volunteers (Vehicle runners) \n\n\n\nI’d offer actual prizes\, but I’m poor both in game and IRL\, hopefully in the future that will change. \n\n\n\nShareable Event Link: \n\n\n\nSee you in the Vers! \n\n\n\nTeam Event Gear: \n\n\n\nRED TEAM: Any RED suit of armor \n\n\n\nBLUE TEAM: Any BLUE suit of armor \n\n\n\nPlease RSVP using the appropriate emoji. \n\n\n\nComs will be provided with the MEC server. Invite link: https://discord.gg/cmG6adc
URL:https://warpthpeed.com/event/fight-night-capture-the-flag/
CATEGORIES:Fight Night
ATTACH;FMTTYPE=image/jpeg:https://warpthpeed.com/wp-content/uploads/2022/03/ScreenShot-2022-03-07_13-57-24-925.jpg
END:VEVENT
BEGIN:VEVENT
DTSTART;TZID=America/Denver:20220204T200000
DTEND;TZID=America/Denver:20220204T235900
DTSTAMP:20260419T214100
CREATED:20220122T184007Z
LAST-MODIFIED:20220204T144227Z
UID:330-1644004800-1644019140@warpthpeed.com
SUMMARY:Fight Night! (Conquest)
DESCRIPTION:SC-EVENT #002 \n\n\n\nOfficial Stream: https://www.twitch.tv/millshive \n\n\n\nWhere: Bejini Point\, Low ArcCorp Orbit\, Stanton System \n\n\n\nWhen: Friday Feb 4th @ 8pm Mountain Time. (03:00 UTC) \n\n\n\nIt’s time for a new FPS game 🙂 The game is Conquest. Two teams\, 1 goal. Control the area. \n\n\n\nTwo teams will battle it out in a conquest style game to control the area for bragging rights! Both teams will have the use of 1 single dropship\, no respawn capability\, and what you bring with you. \n\n\n\nThe rules:1: Each team will have 1 dropship only. Ship cannot have respanw capability2: After elimination team can return to area to Capture/defend points.3: Points are captured after 5 minutes of full point control (Enemy team is not present on Point)4: First team to capture all points wins \n\n\n\nThis event is still in development so please expect some changes to be made to better balance the event. In order for this to be a huge success we need all your friends and buddies to be here. Share this event with everyone who plays. Spread the word. Let’s have some great times with this one 😀 \n\n\n\nI’d offer actual prizes\, but I’m poor both in game and IRL\, hopefully in the future that will change. \n\n\n\nSee you in the Vers! \n\n\n\nTeam Event Gear:  \n\n\n\nRED TEAM: Any RED suit of armor \n\n\n\nBLUE TEAM: Any BLUE suit of armor \n\n\n\nPlease RSVP using the appropriate emoji. \n\n\n\nComs will be provided with the MEC Discord server. Invite link: https://discord.gg/cmG6adc
URL:https://warpthpeed.com/event/fight-night-conquest/
CATEGORIES:Fight Night
ATTACH;FMTTYPE=image/jpeg:https://warpthpeed.com/wp-content/uploads/2022/01/Double-Tower-Top.jpg
END:VEVENT
BEGIN:VEVENT
DTSTART;TZID=America/Denver:20220115T120000
DTEND;TZID=America/Denver:20220115T180000
DTSTAMP:20260419T214100
CREATED:20220112T161137Z
LAST-MODIFIED:20220112T161147Z
UID:299-1642248000-1642269600@warpthpeed.com
SUMMARY:Daymar Rally
DESCRIPTION:The filthiest race in the Vers’500km3 Checkpoints1 moon
URL:https://warpthpeed.com/event/daymar-rally/
ATTACH;FMTTYPE=image/png:https://warpthpeed.com/wp-content/uploads/2022/01/Daymar-Rally-2952-Map.png
END:VEVENT
BEGIN:VEVENT
DTSTART;TZID=America/Denver:20220107T200000
DTEND;TZID=America/Denver:20220107T235900
DTSTAMP:20260419T214100
CREATED:20220103T023632Z
LAST-MODIFIED:20220103T023632Z
UID:256-1641585600-1641599940@warpthpeed.com
SUMMARY:Fight Night! (Bounty Swarm)
DESCRIPTION:SC-EVENT #001 \n\n\n\nWhere: Bejini Point\, Low ArcCorp Orbit\, Stanton System \n\n\n\nWhen: Friday Jan 7th @ 8pm Mountain Time. \n\n\n\nWe will be doing atmospheric bounty missions using only a C2 and as many Merlins as we can fit. Merlins can be purchased in game for about 135k aUEC. Details at this link: https://finder.cornerstonebase.space/ShipShops1/a5a8e4e5-939c-4f7b-ab48-5f7db556d5a4 \n\n\n\nWe will also participate in the Nine Tails mission (Lawful) if it is available. Using the same strategy 😀 \n\n\n\nSee you in the Vers! \n\n\n\nEvent Gear:Undersuit:Beacon Red & Black (Port Olisar)Armor:Full Orc-mkX Twilight (Port Olisar)Backpack:Medic: Sinkhole Backpack (Grim Hex)General: Backpack: Aril Backpack (Orison) \n\n\n\nPlease RSVP on Discord. \n\n\n\nComs will be provided with the MEC server. If you need an invite link to the server please let me know.
URL:https://warpthpeed.com/event/fight-night-bounty-swarm/
LOCATION:Star Citizen
ATTACH;FMTTYPE=image/jpeg:https://warpthpeed.com/wp-content/uploads/2022/01/ScreenShot-2021-11-12_08-14-43-7C2.jpg
END:VEVENT
BEGIN:VEVENT
DTSTART;TZID=America/Denver:20211217T200000
DTEND;TZID=America/Denver:20211217T235900
DTSTAMP:20260419T214100
CREATED:20211217T055811Z
LAST-MODIFIED:20211217T155419Z
UID:142-1639771200-1639785540@warpthpeed.com
SUMMARY:Fight Night! (Trade Fleet)
DESCRIPTION:SC-EVENT #024 \nWhere: Bejini Point\, Low ArcCorp Orbit\, Stanton System \nWhen: Friday Dec 17th @ 8pm Mountain Time. \nTime to get our trade on again! The trade fleet was awesome\, and this time we’ll hit up some higher paying commodities. The goal is to make a lot of money for everyone\, and to empty out the stocks of all the outposts in a planetary system 🙂 \nThis event is a BYOS (Bring Your Own Ship) and BYOM (Bring Your Own Money). If you do not have a ship to use for trade\, I am sure someone would be happy to loan you a ship for use. You’ll need to transfer your seed money to the owner so they can fill and sell commodities for you. Loaner will then need to transfer your seed money and profits to you at the end of the night. \nSee you in the Vers! \nEvent Gear:Undersuit:Beacon Red & Black (Port Olisar)Armor:Full Orc-mkX Twilight (Port Olisar)Backpack:Medic: Sinkhole Backpack (Grim Hex)General: Backpack: Aril Backpack (Orison) \nPlease RSVP on Discord. \nComs will be provided with the MEC server. If you need an invite link to the server please let me know.
URL:https://warpthpeed.com/event/fight-night-trade-fleet/
CATEGORIES:Fight Night
ATTACH;FMTTYPE=image/jpeg:https://warpthpeed.com/wp-content/uploads/2021/12/ScreenShot-2021-11-12_20-50-22-B4D.jpg
END:VEVENT
END:VCALENDAR