BEGIN:VCALENDAR
VERSION:2.0
PRODID:-//WarpThpeed - ECPv6.15.15//NONSGML v1.0//EN
CALSCALE:GREGORIAN
METHOD:PUBLISH
X-ORIGINAL-URL:https://warpthpeed.com
X-WR-CALDESC:Events for WarpThpeed
REFRESH-INTERVAL;VALUE=DURATION:PT1H
X-Robots-Tag:noindex
X-PUBLISHED-TTL:PT1H
BEGIN:VTIMEZONE
TZID:America/Denver
BEGIN:DAYLIGHT
TZOFFSETFROM:-0700
TZOFFSETTO:-0600
TZNAME:MDT
DTSTART:20230312T090000
END:DAYLIGHT
BEGIN:STANDARD
TZOFFSETFROM:-0600
TZOFFSETTO:-0700
TZNAME:MST
DTSTART:20231105T080000
END:STANDARD
BEGIN:DAYLIGHT
TZOFFSETFROM:-0700
TZOFFSETTO:-0600
TZNAME:MDT
DTSTART:20240310T090000
END:DAYLIGHT
BEGIN:STANDARD
TZOFFSETFROM:-0600
TZOFFSETTO:-0700
TZNAME:MST
DTSTART:20241103T080000
END:STANDARD
BEGIN:DAYLIGHT
TZOFFSETFROM:-0700
TZOFFSETTO:-0600
TZNAME:MDT
DTSTART:20250309T090000
END:DAYLIGHT
BEGIN:STANDARD
TZOFFSETFROM:-0600
TZOFFSETTO:-0700
TZNAME:MST
DTSTART:20251102T080000
END:STANDARD
BEGIN:DAYLIGHT
TZOFFSETFROM:-0700
TZOFFSETTO:-0600
TZNAME:MDT
DTSTART:20260308T090000
END:DAYLIGHT
BEGIN:STANDARD
TZOFFSETFROM:-0600
TZOFFSETTO:-0700
TZNAME:MST
DTSTART:20261101T080000
END:STANDARD
END:VTIMEZONE
BEGIN:VEVENT
DTSTART;TZID=America/Denver:20240315T203000
DTEND;TZID=America/Denver:20240315T235900
DTSTAMP:20260419T233128
CREATED:20240301T180036Z
LAST-MODIFIED:20240301T180059Z
UID:617-1710534600-1710547140@warpthpeed.com
SUMMARY:Fight Night (UGF Assault)
DESCRIPTION:SC-EVENT #005 \n\n\n\nWhere: Seraphim Station\, Low Crusader Orbit\, Stanton System \n\n\n\nWhen: Friday March 15th @ 8:30pm Mountain Time. (02:30 UTC) \n\n\n\nHost: Mill Shive \n\n\n\nSpecial:In the spirit of fun\, tonight’s event will limit us to only a flight suit and helmet. You will have to scavenge and loot your way to better gear. The group will fly in in nothing bigger than a MSR and drive into the UGF from there if necessary. Only 1 C8R Pieces will be allowed for the event\, and will be used as an ambulance as T2 and T1 injuries are earned. \n\n\n\nEvent Gear (official): Undersuit and helmet of your choice \n\n\n\nShareable Link: https://warpthpeed.com/event/fight-night-ugf-assault/Event Stream: https://www.twitch.tv/millshive \n\n\n\nPlease RSVP using the event board on discord. \n\n\n\nComs will be provided with the MEC server.Invite link: https://discord.gg/cmG6adc
URL:https://warpthpeed.com/event/fight-night-ugf-assault/
LOCATION:Star Citizen
CATEGORIES:Fight Night
ATTACH;FMTTYPE=image/jpeg:https://warpthpeed.com/wp-content/uploads/2022/04/ScreenShot-2022-03-25_21-25-27-566.jpg
END:VEVENT
BEGIN:VEVENT
DTSTART;TZID=America/Denver:20240329T203000
DTEND;TZID=America/Denver:20240329T235900
DTSTAMP:20260419T233128
CREATED:20240301T182405Z
LAST-MODIFIED:20240319T182119Z
UID:622-1711744200-1711756740@warpthpeed.com
SUMMARY:Fight Night (Bounty Fleet)
DESCRIPTION:SC-EVENT #006 \n\n\n\nWhere: Seraphim Station\, Low Crusader Orbit\, Stanton System \n\n\n\nWhen: Friday March 29th @ 8:30pm Mountain Time. (02:30 UTC) \n\n\n\nHost: Mill Shive \n\n\n\nSpecial:Let’s get our Bounty Certs out of the way\, and clean up the riff raff of Stanton System. We’ll be running in single to dual seater fighters. We will not have anything larger. \n\n\n\nEvent Gear (official): Beacon Red Undersuit\, Orc mk-X Twilight Armor (full) [Can wear a subscriber helmet instead if you wish.Event Gear (unofficial): Red understuit\, and any blue armor. \n\n\n\nShareable Link: https://warpthpeed.com/event/fight-night-bounty-fleet/Event Stream: https://www.twitch.tv/millshive \n\n\n\nPlease RSVP using the event board on discord. \n\n\n\nComs will be provided with the MEC server.Invite link: https://discord.gg/cmG6adc
URL:https://warpthpeed.com/event/fight-night-bounty-fleet/
LOCATION:Star Citizen
CATEGORIES:Fight Night
ATTACH;FMTTYPE=image/jpeg:https://warpthpeed.com/wp-content/uploads/2022/01/cropped-RedMonster-6.jpg
END:VEVENT
BEGIN:VEVENT
DTSTART;TZID=America/Denver:20240412T203000
DTEND;TZID=America/Denver:20240412T235900
DTSTAMP:20260419T233128
CREATED:20240301T183700Z
LAST-MODIFIED:20240301T183734Z
UID:627-1712953800-1712966340@warpthpeed.com
SUMMARY:Fight Night (Fisticuffs)
DESCRIPTION:SC-EVENT #007 \n\n\n\nWhere: Orison\, Crusader\, Stanton System \n\n\n\nWhen: Friday Apri 12th @ 8:30pm Mountain Time. (02:30 UTC) \n\n\n\nHost: Mill Shive \n\n\n\nSpecial:2024 is off to a great start. And now we bring Fight Night back to it’s roots for a good ol fashioned boxing tournament. Fights will be done without armor or undersuits. Fighters will come dressed in their finest fighting civilian apparel. \n\n\n\nFights are 1 on 1\, incap only\, best 2 out of 3.Medics will be on site to revive and heal all contestants between matches. \n\n\n\nEvent Gear (official): Civilian cloths only. If you don’t wear any\, you’ll be naked. \n\n\n\nPrizes: Subscriber paint packs for the top 3 winners of the tournament. \n\n\n\nShareable Link: https://warpthpeed.com/event/fight-night-fisticuffs-2/Event Stream: https://www.twitch.tv/millshive \n\n\n\nPlease RSVP using the event board on discord. \n\n\n\nComs will be provided with the MEC server.Invite link: https://discord.gg/cmG6adc
URL:https://warpthpeed.com/event/fight-night-fisticuffs-2/
LOCATION:Star Citizen
CATEGORIES:Fight Night
ATTACH;FMTTYPE=image/jpeg:https://warpthpeed.com/wp-content/uploads/2023/04/ScreenShot-2022-05-13_22-14-08-2A1.jpg
END:VEVENT
BEGIN:VEVENT
DTSTART;TZID=America/Denver:20240712T203000
DTEND;TZID=America/Denver:20240712T235900
DTSTAMP:20260419T233128
CREATED:20240708T142318Z
LAST-MODIFIED:20240708T142410Z
UID:680-1720816200-1720828740@warpthpeed.com
SUMMARY:Fight Night (Distro Time)
DESCRIPTION:SC-EVENT #007Where: Everus Harbor\, Low Hurston Orbit\, Stanton SystemWhen: Friday July 12th @ 8:30pm Mountain Time. (02:30 UTC)Host: Mill ShiveSpecial:We are back!!! After a long\, unplanned hiatus due to several IRL issues\, including 1 dead SSD. Our beloved Shenanigans event is back! This return we will be exploring the missions of local distribution centers. Gear up! it could get pretty crazy.Event Gear (official): Beacon Red Undersuit\, Orc mk-X Twilight Armor (full) [Can wear a subscriber helmet instead if you wish.Event Gear (unofficial): Red understuit\, and any blue armor.Shareable Link: https://warpthpeed.com/event/fight-night-distro-time/Event Stream: https://www.twitch.tv/millshivePlease RSVP using the event board on discord.Coms will be provided with the MEC server.Invite link: https://discord.gg/cmG6adc
URL:https://warpthpeed.com/event/fight-night-distro-time/
LOCATION:Star Citizen
CATEGORIES:Fight Night
ATTACH;FMTTYPE=image/jpeg:https://warpthpeed.com/wp-content/uploads/2024/07/ScreenShot-2023-11-17_23-36-56-D74.jpg
END:VEVENT
BEGIN:VEVENT
DTSTART;TZID=America/Denver:20240719T203000
DTEND;TZID=America/Denver:20240719T235900
DTSTAMP:20260419T233128
CREATED:20240716T221620Z
LAST-MODIFIED:20241227T075136Z
UID:685-1721421000-1721433540@warpthpeed.com
SUMMARY:Fight Night (Foundation Festival Rewards | Distro Delivery Missions)
DESCRIPTION:SC-EVENT #008 \n\n\n\nWhere: Everus Harbor\, Low Hurston Orbit\, Stanton System \n\n\n\nWhen: Friday July 19th @ 8:30pm Mountain Time. (02:30 UTC) \n\n\n\nHost: Mootkins \n\n\n\nSpecial:Happy Foundation Festival everyone! For this week’s Fight Night\, we will be offering guide services as part of the Foundation Festival event currently going on. This Fight Night is gonna be a bit more laid-back\, but whether you’re looking to learn something new about Star Citizen\, or are just in it for the guide rewards\, then this Friday is the time! If we have extra time after\, we will be running a Mule (or two) to doing Distro Delivery Missions just to switch things up a bit. \n\n\n\nEvent Gear (official): Beacon Red Undersuit\, Orc mk-X Twilight Armor (full) [Can wear a subscriber helmet instead if you wish.Event Gear (unofficial): Red understuit\, and any blue armor. \n\n\n\nShareable Link: https://warpthpeed.com/event/fight-night-foundation-festival-rewards-distro-delivery-missions/Event Stream: N/A \n\n Folk art is rich and colorful\, showing local characteristics. \n\n\nPlease RSVP using the event board on discord. \n\n\n\nComs will be provided with the USC server.
URL:https://warpthpeed.com/event/fight-night-foundation-festival-rewards-distro-delivery-missions/
LOCATION:Star Citizen
ATTACH;FMTTYPE=image/jpeg:https://warpthpeed.com/wp-content/uploads/2023/11/Orison-Cloud-view-Center.jpg
END:VEVENT
BEGIN:VEVENT
DTSTART;TZID=America/Denver:20250228T203000
DTEND;TZID=America/Denver:20250228T235900
DTSTAMP:20260419T233128
CREATED:20250221T205749Z
LAST-MODIFIED:20250221T205848Z
UID:696-1740774600-1740787140@warpthpeed.com
SUMMARY:Fight Night (Pyro Merc)
DESCRIPTION:SC-EVENT #006 \n\n\n\nWhere: Orbituary Station\, Low Bloom Orbit\, Pyro System \n\n\n\nWhen: Friday Feb 28th @ 8:30pm Mountain Time. (02:30 UTC) \n\n\n\nHost: Mill Shive \n\n\n\nSpecial:Time to help the Citizens for Pyro bring peace to the system. We will be taking mercenary contracts and clearing out outposts. This will be a typical bunker run\, but without the bunker. Gear up! Eyes out! They will be everywhere. \n\n\n\nEvent Gear (official): Beacon Red Undersuit\, Orc mk-X Twilight Armor (full) [Can wear a subscriber helmet instead if you wish.Event Gear (unofficial): Red understuit\, and any blue armor. \n\n\n\nShareable Link: https://warpthpeed.com/event/fight-night-pyro-merc/Event Stream: https://www.twitch.tv/millshive \n\n\n\nPlease RSVP using the event board on discord. \n\n\n\nComs will be provided with the MEC server.
URL:https://warpthpeed.com/event/fight-night-pyro-merc/
LOCATION:Star Citizen
CATEGORIES:Fight Night
ATTACH;FMTTYPE=image/jpeg:https://warpthpeed.com/wp-content/uploads/2022/04/ScreenShot-2022-03-25_21-25-27-566.jpg
END:VEVENT
BEGIN:VEVENT
DTSTART;TZID=America/Denver:20250321T203000
DTEND;TZID=America/Denver:20250321T235959
DTSTAMP:20260419T233128
CREATED:20250315T002838Z
LAST-MODIFIED:20250315T002838Z
UID:700-1742589000-1742601599@warpthpeed.com
SUMMARY:Fight Night (Supply or Die)
DESCRIPTION:SC-EVENT #009 \n\n\n\nWhere: Orbituary Station\, Low Bloom Orbit\, Pyro System \n\n\n\nWhen: Friday March 21st @ 8:30pm Mountain Time. (02:30 UTC) \n\n\n\nHost: Mill Shive \n\n\n\nSpecial:We’ll be making a near last ditch effort to help everyone complete their Supply or Die missions. We’ve noticed that the easiest route is salvage for this event. But we’ll do whatever fancies the group. \n\n\n\nEvent Gear (official): Beacon Red/Black Undersuit\, Orc mk-X Twilight Armor (full) Can wear a subscriber helmet instead if you wish.Event Gear (unofficial): Red dominant understuit\, and any blue armor. \n\n\n\nShareable Link: https://warpthpeed.com/event/fight-night-supply-or-die/Event Stream: https://www.twitch.tv/millshive \n\n\n\nPlease RSVP using the event board on discord. \n\n\n\nComs will be provided with the MEC server.
URL:https://warpthpeed.com/event/fight-night-supply-or-die/
LOCATION:Star Citizen
ATTACH;FMTTYPE=image/png:https://warpthpeed.com/wp-content/uploads/2025/03/image.png
END:VEVENT
BEGIN:VEVENT
DTSTART;TZID=America/Denver:20250326T203000
DTEND;TZID=America/Denver:20250326T235900
DTSTAMP:20260419T233128
CREATED:20250326T211035Z
LAST-MODIFIED:20250326T211049Z
UID:703-1743021000-1743033540@warpthpeed.com
SUMMARY:Fight Night (Scrape & Chill)
DESCRIPTION:SC-EVENT #010 \n\n\n\nWhere: Baijini Point\, Low ArcCorp Orbit\, Stanton System \n\n\n\nWhen: Friday March 28th @ 8:30pm Mountain Time. (02:30 UTC) \n\n\n\nHost: Mill Shive \n\n\n\nSpecial:The plan is either participate in the new event\, or a straight up Salvage night for the hell of it. Break out your Vultures\, your Fortunes\, your Reclaimers\, even your cargo ships. And let’s clean up the system with our might! Bring your favorite drinks\, your snacks\, and talking points. It’s time to Scrape & Chill. \n\n\n\nIf there are enough people\, and it’s a salvage night\, we’ll have a bit of a “Process” race. 2-man teams\, who can scrape the most RMC in 10 minutes? \n\n\n\nEvent Gear (official): Beacon Red Undersuit\, Orc mk-X Twilight Armor (full) [Can wear a subscriber helmet instead if you wish.Event Gear (unofficial): Red understuit\, and any blue armor. \n\n\n\nShareable Link: https://warpthpeed.com/event/fight-night-scrape-chill/Event Stream: https://www.twitch.tv/millshive \n\n\n\nPlease RSVP using the event board on discord. \n\n\n\nComs will be provided with the MEC server.
URL:https://warpthpeed.com/event/fight-night-scrape-chill/
LOCATION:Star Citizen
ATTACH;FMTTYPE=image/png:https://warpthpeed.com/wp-content/uploads/2025/03/Vulture-Salvaging-Polaris.png
END:VEVENT
END:VCALENDAR