BEGIN:VCALENDAR
VERSION:2.0
PRODID:-//WarpThpeed - ECPv6.15.15//NONSGML v1.0//EN
CALSCALE:GREGORIAN
METHOD:PUBLISH
X-ORIGINAL-URL:https://warpthpeed.com
X-WR-CALDESC:Events for WarpThpeed
REFRESH-INTERVAL;VALUE=DURATION:PT1H
X-Robots-Tag:noindex
X-PUBLISHED-TTL:PT1H
BEGIN:VTIMEZONE
TZID:America/Denver
BEGIN:DAYLIGHT
TZOFFSETFROM:-0700
TZOFFSETTO:-0600
TZNAME:MDT
DTSTART:20210314T090000
END:DAYLIGHT
BEGIN:STANDARD
TZOFFSETFROM:-0600
TZOFFSETTO:-0700
TZNAME:MST
DTSTART:20211107T080000
END:STANDARD
BEGIN:DAYLIGHT
TZOFFSETFROM:-0700
TZOFFSETTO:-0600
TZNAME:MDT
DTSTART:20220313T090000
END:DAYLIGHT
BEGIN:STANDARD
TZOFFSETFROM:-0600
TZOFFSETTO:-0700
TZNAME:MST
DTSTART:20221106T080000
END:STANDARD
BEGIN:DAYLIGHT
TZOFFSETFROM:-0700
TZOFFSETTO:-0600
TZNAME:MDT
DTSTART:20230312T090000
END:DAYLIGHT
BEGIN:STANDARD
TZOFFSETFROM:-0600
TZOFFSETTO:-0700
TZNAME:MST
DTSTART:20231105T080000
END:STANDARD
END:VTIMEZONE
BEGIN:VEVENT
DTSTART;TZID=America/Denver:20220107T200000
DTEND;TZID=America/Denver:20220107T235900
DTSTAMP:20260421T200710
CREATED:20220103T023632Z
LAST-MODIFIED:20220103T023632Z
UID:256-1641585600-1641599940@warpthpeed.com
SUMMARY:Fight Night! (Bounty Swarm)
DESCRIPTION:SC-EVENT #001 \n\n\n\nWhere: Bejini Point\, Low ArcCorp Orbit\, Stanton System \n\n\n\nWhen: Friday Jan 7th @ 8pm Mountain Time. \n\n\n\nWe will be doing atmospheric bounty missions using only a C2 and as many Merlins as we can fit. Merlins can be purchased in game for about 135k aUEC. Details at this link: https://finder.cornerstonebase.space/ShipShops1/a5a8e4e5-939c-4f7b-ab48-5f7db556d5a4 \n\n\n\nWe will also participate in the Nine Tails mission (Lawful) if it is available. Using the same strategy 😀 \n\n\n\nSee you in the Vers! \n\n\n\nEvent Gear:Undersuit:Beacon Red & Black (Port Olisar)Armor:Full Orc-mkX Twilight (Port Olisar)Backpack:Medic: Sinkhole Backpack (Grim Hex)General: Backpack: Aril Backpack (Orison) \n\n\n\nPlease RSVP on Discord. \n\n\n\nComs will be provided with the MEC server. If you need an invite link to the server please let me know.
URL:https://warpthpeed.com/event/fight-night-bounty-swarm/
LOCATION:Star Citizen
ATTACH;FMTTYPE=image/jpeg:https://warpthpeed.com/wp-content/uploads/2022/01/ScreenShot-2021-11-12_08-14-43-7C2.jpg
END:VEVENT
BEGIN:VEVENT
DTSTART;TZID=America/Denver:20220115T120000
DTEND;TZID=America/Denver:20220115T180000
DTSTAMP:20260421T200710
CREATED:20220112T161137Z
LAST-MODIFIED:20220112T161147Z
UID:299-1642248000-1642269600@warpthpeed.com
SUMMARY:Daymar Rally
DESCRIPTION:The filthiest race in the Vers’500km3 Checkpoints1 moon
URL:https://warpthpeed.com/event/daymar-rally/
ATTACH;FMTTYPE=image/png:https://warpthpeed.com/wp-content/uploads/2022/01/Daymar-Rally-2952-Map.png
END:VEVENT
END:VCALENDAR