BEGIN:VCALENDAR
VERSION:2.0
PRODID:-//WarpThpeed - ECPv6.15.15//NONSGML v1.0//EN
CALSCALE:GREGORIAN
METHOD:PUBLISH
X-ORIGINAL-URL:https://warpthpeed.com
X-WR-CALDESC:Events for WarpThpeed
REFRESH-INTERVAL;VALUE=DURATION:PT1H
X-Robots-Tag:noindex
X-PUBLISHED-TTL:PT1H
BEGIN:VTIMEZONE
TZID:America/Denver
BEGIN:DAYLIGHT
TZOFFSETFROM:-0700
TZOFFSETTO:-0600
TZNAME:MDT
DTSTART:20210314T090000
END:DAYLIGHT
BEGIN:STANDARD
TZOFFSETFROM:-0600
TZOFFSETTO:-0700
TZNAME:MST
DTSTART:20211107T080000
END:STANDARD
BEGIN:DAYLIGHT
TZOFFSETFROM:-0700
TZOFFSETTO:-0600
TZNAME:MDT
DTSTART:20220313T090000
END:DAYLIGHT
BEGIN:STANDARD
TZOFFSETFROM:-0600
TZOFFSETTO:-0700
TZNAME:MST
DTSTART:20221106T080000
END:STANDARD
BEGIN:DAYLIGHT
TZOFFSETFROM:-0700
TZOFFSETTO:-0600
TZNAME:MDT
DTSTART:20230312T090000
END:DAYLIGHT
BEGIN:STANDARD
TZOFFSETFROM:-0600
TZOFFSETTO:-0700
TZNAME:MST
DTSTART:20231105T080000
END:STANDARD
END:VTIMEZONE
BEGIN:VEVENT
DTSTART;TZID=America/Denver:20220628T203000
DTEND;TZID=America/Denver:20220628T235900
DTSTAMP:20260421T111928
CREATED:20220628T220621Z
LAST-MODIFIED:20220628T220622Z
UID:378-1656448200-1656460740@warpthpeed.com
SUMMARY:Fight Night (Frag Fest)
DESCRIPTION:SC-EVENT #007 \n\n\n\nWhere: Menues \n\n\n\nWhen: Friday July 1st @ 8:30pm Mountain Time. (02:30 UTC) \n\n\n\nSpecial:We are going back to Arena Commander for some Pirate swarm\, and then on to Star Marine for some good ol fashion FPS\, or what I like to call “Frag Fest” \n\n\n\nFeel free to grab this page’s URL and share it with whom ever you wish to bring.  \n\n\n\nPlease RSVP using the appropriate emoji on discord. \n\n\n\nComs will be provided with the MEC server.Invite link: https://discord.gg/cmG6adc
URL:https://warpthpeed.com/event/fight-night-frag-fest/
LOCATION:Star Citizen
CATEGORIES:Fight Night
ATTACH;FMTTYPE=image/jpeg:https://warpthpeed.com/wp-content/uploads/2022/06/Pirate-Swarm-1.jpg
END:VEVENT
END:VCALENDAR