BEGIN:VCALENDAR
VERSION:2.0
PRODID:-//WarpThpeed - ECPv6.15.15//NONSGML v1.0//EN
CALSCALE:GREGORIAN
METHOD:PUBLISH
X-WR-CALNAME:WarpThpeed
X-ORIGINAL-URL:https://warpthpeed.com
X-WR-CALDESC:Events for WarpThpeed
REFRESH-INTERVAL;VALUE=DURATION:PT1H
X-Robots-Tag:noindex
X-PUBLISHED-TTL:PT1H
BEGIN:VTIMEZONE
TZID:America/Denver
BEGIN:DAYLIGHT
TZOFFSETFROM:-0700
TZOFFSETTO:-0600
TZNAME:MDT
DTSTART:20220313T090000
END:DAYLIGHT
BEGIN:STANDARD
TZOFFSETFROM:-0600
TZOFFSETTO:-0700
TZNAME:MST
DTSTART:20221106T080000
END:STANDARD
BEGIN:DAYLIGHT
TZOFFSETFROM:-0700
TZOFFSETTO:-0600
TZNAME:MDT
DTSTART:20230312T090000
END:DAYLIGHT
BEGIN:STANDARD
TZOFFSETFROM:-0600
TZOFFSETTO:-0700
TZNAME:MST
DTSTART:20231105T080000
END:STANDARD
BEGIN:DAYLIGHT
TZOFFSETFROM:-0700
TZOFFSETTO:-0600
TZNAME:MDT
DTSTART:20240310T090000
END:DAYLIGHT
BEGIN:STANDARD
TZOFFSETFROM:-0600
TZOFFSETTO:-0700
TZNAME:MST
DTSTART:20241103T080000
END:STANDARD
END:VTIMEZONE
BEGIN:VEVENT
DTSTART;TZID=America/Denver:20230714T203000
DTEND;TZID=America/Denver:20230714T235900
DTSTAMP:20260422T044006
CREATED:20230701T194850Z
LAST-MODIFIED:20230701T195503Z
UID:562-1689366600-1689379140@warpthpeed.com
SUMMARY:Fight Night (Trade Fleet)
DESCRIPTION:SC-EVENT #012 \n\n\n\nWhere: Lorville\, Hurston\, Stanton System \n\n\n\nWhen: Friday July 14th @ 8:30pm Mountain Time. (02:30 UTC) \n\n\n\nSpecial:Time to get our trade on again! The great Seggellion has made an app that will help us gamify this event. We will split into teams. Depending on size it will most likely be 1 hauler and 1 escort. The teams will compete to see who can make the most profit. For the amazing prize of bragging rights\, for the best trade route for the evening. Plus all the profits you just made! Escorts will receive a fair cut of the profits. \n\n\n\nThis event is a BYOS (Bring Your Own Ship). Due to the changes in ATC contacts loaning ships will not be possible. \n\n\n\nPlease DM Me on discord if you have any preference of role. \n\n\n\nEvent Gear (official): Beacon Red Undersuit\, Orc mk-X Twilight Armor (full) [Can wear a subscriber helmet instead if you wish.Event Gear (unofficial): Red understuit\, and any blue armor. \n\n\n\nShareable Link: https://warpthpeed.com/event/fight-night-trade-fleet-3/Event Stream: https://www.twitch.tv/millshive \n\n\n\nPlease RSVP using the event board on discord. \n\n\n\nComs will be provided with the MEC server.Invite link: https://discord.gg/cmG6adc
URL:https://warpthpeed.com/event/fight-night-trade-fleet-3/
LOCATION:Star Citizen
CATEGORIES:Fight Night
ATTACH;FMTTYPE=image/jpeg:https://warpthpeed.com/wp-content/uploads/2021/12/ScreenShot-2021-11-12_20-50-22-B4D.jpg
END:VEVENT
BEGIN:VEVENT
DTSTART;TZID=America/Denver:20230728T203000
DTEND;TZID=America/Denver:20230728T235900
DTSTAMP:20260422T044006
CREATED:20230725T165118Z
LAST-MODIFIED:20230725T165400Z
UID:568-1690576200-1690588740@warpthpeed.com
SUMMARY:Fight Night (Bunker Brawl)
DESCRIPTION:SC-EVENT #013 \n\n\n\nWhere: Lorville\, Hurston\, Stanton System \n\n\n\nWhen: Friday July 28th @ 8:30pm Mountain Time. (02:30 UTC) \n\n\n\nSpecial:How about a Reputation build run? We are going to spam as many bunkers of the same contractor to build up our reputation\, in the hopes that we can get to the harder\, higher paying bunkers. It’s recommended everyone have at least a medical gun to help with revives for any unfortunet sole who passes out due to… reasons. \n\n\n\nThis event is a BYOG (Bring Your Own Gear). You’ll be responsible for your own replacements. Lots of gear to be gathered in bunkers if you are light on replacements. \n\n\n\nEvent Gear (official): Beacon Red Undersuit\, Orc mk-X Twilight Armor (full) [Can wear a subscriber helmet instead if you wish.Event Gear (unofficial): Red understuit\, and any blue armor. \n\n\n\nShareable Link: https://warpthpeed.com/event/fight-night-bunker-brawl/Event Stream: https://www.twitch.tv/millshive \n\n\n\nPlease RSVP using the event board on discord. \n\n\n\nComs will be provided with the MEC server.Invite link: https://discord.gg/cmG6adc
URL:https://warpthpeed.com/event/fight-night-bunker-brawl/
LOCATION:Star Citizen
CATEGORIES:Fight Night
ATTACH;FMTTYPE=image/png:https://warpthpeed.com/wp-content/uploads/2023/02/Hot-Drop-RWarnick-4.png
END:VEVENT
END:VCALENDAR